{
 "version": 1.0,
 "tileBundlesPath": "./tile",
 "storageInfo": {
  "packetSize": 128,
  "storageFormat": "esriMapCacheStorageModeCompactV2"
 },
 "tileImageInfo": {
  "format": "PNG32",
  "compressionQuality": 0,
  "bandCount": 1,
  "lercError": 0
 },
 "tileInfo": {
  "spatialReference": {
   "wkid": 102100,
   "latestWkid": 3857
  },
  "origin": {
   "x": -2.0037508342787E7,
   "y": 2.0037508342787E7
  },
  "rows": 256,
  "cols": 256,
  "dpi": 96,
  "lods": [
   {
    "level": 0,
    "resolution": 156543.033928,
    "scale": 5.91657527591555E8
   },
   {
    "level": 1,
    "resolution": 78271.5169639999,
    "scale": 2.95828763795777E8
   },
   {
    "level": 2,
    "resolution": 39135.7584820001,
    "scale": 1.47914381897889E8
   },
   {
    "level": 3,
    "resolution": 19567.8792409999,
    "scale": 7.3957190948944E7
   },
   {
    "level": 4,
    "resolution": 9783.93962049996,
    "scale": 3.6978595474472E7
   },
   {
    "level": 5,
    "resolution": 4891.96981024998,
    "scale": 1.8489297737236E7
   },
   {
    "level": 6,
    "resolution": 2445.98490512499,
    "scale": 9244648.868618
   },
   {
    "level": 7,
    "resolution": 1222.99245256249,
    "scale": 4622324.434309
   },
   {
    "level": 8,
    "resolution": 611.49622628138,
    "scale": 2311162.217155
   },
   {
    "level": 9,
    "resolution": 305.748113140558,
    "scale": 1155581.108577
   },
   {
    "level": 10,
    "resolution": 152.874056570411,
    "scale": 577790.554289
   },
   {
    "level": 11,
    "resolution": 76.4370282850732,
    "scale": 288895.277144
   },
   {
    "level": 12,
    "resolution": 38.2185141425366,
    "scale": 144447.638572
   },
   {
    "level": 13,
    "resolution": 19.1092570712683,
    "scale": 72223.819286
   },
   {
    "level": 14,
    "resolution": 9.55462853563415,
    "scale": 36111.909643
   },
   {
    "level": 15,
    "resolution": 4.77731426794937,
    "scale": 18055.954822
   },
   {
    "level": 16,
    "resolution": 2.38865713397468,
    "scale": 9027.977411
   },
   {
    "level": 17,
    "resolution": 1.19432856685505,
    "scale": 4513.988705
   },
   {
    "level": 18,
    "resolution": 0.597164283559817,
    "scale": 2256.994353
   },
   {
    "level": 19,
    "resolution": 0.298582141647617,
    "scale": 1128.497176
   },
   {
    "level": 20,
    "resolution": 0.14929107082380833,
    "scale": 564.248588
   },
   {
    "level": 21,
    "resolution": 0.07464553541190416,
    "scale": 282.124294
   },
   {
    "level": 22,
    "resolution": 0.03732276770595208,
    "scale": 141.062147
   },
   {
    "level": 23,
    "resolution": 0.01866138385297604,
    "scale": 70.5310735
   }
  ],
  "format": "PNG32",
  "compressionQuality": 0,
  "bandCount": 1,
  "lercError": 0,
  "storageFormat": "esriMapCacheStorageModeCompactV2",
  "packetSize": 128
 },
 "name": "MA_CustomBasemapSimple_2025_06",
 "serviceDescription": "",
 "spatialReference": {
  "wkid": 102100,
  "latestWkid": 3857,
  "xyTolerance": 0.001,
  "zTolerance": 0.001,
  "mTolerance": 0.001,
  "falseX": -20037700,
  "falseY": -30241100,
  "xyUnits": 10000,
  "falseZ": -100000,
  "zUnits": 10000,
  "falseM": -100000,
  "mUnits": 10000
 },
 "units": "esriMeters",
 "minLOD": 14,
 "maxLOD": 23,
 "resampling": true,
 "layers": [
  {
   "id": 0,
   "name": "ChingBleachers_2024_py",
   "parentLayerId": -1,
   "defaultVisibility": true,
   "subLayerIds": null,
   "minScale": 9027.977411,
   "maxScale": 0,
   "type": "Feature Layer",
   "geometryType": "esriGeometryPolygon",
   "supportsDynamicLegends": true,
   "legend": [
    {
     "label": "Booth",
     "imageData": "iVBORw0KGgoAAAANSUhEUgAAABQAAAAUCAYAAACNiR0NAAAACXBIWXMAAA7EAAAOxAGVKw4bAAAAT0lEQVQ4jWPZuXPnVGZmZgcGKoC/f/8eYAEZpqqqqkUNA2/fvs3AwkBlwDJqIMWAhXIjUMGogZQDFiqYgQJGDRwRYfj3798DoJKWGgBkFgB8AhSDpmFOlwAAAABJRU5ErkJggg==",
     "contentType": "image/png",
     "groupId": "0",
     "height": 20,
     "width": 20,
     "values": [
      "Booth"
     ],
     "layerId": 0,
     "layerName": "ChingBleachers_2024_py"
    },
    {
     "label": "Seats",
     "imageData": "iVBORw0KGgoAAAANSUhEUgAAABQAAAAUCAYAAACNiR0NAAAACXBIWXMAAA7EAAAOxAGVKw4bAAAATklEQVQ4je3UsQ0AMQhDUSTcsFUWueYmzRLMQmUpokwNXfgDvMKF4e6/qi5piORGYmb2dYARIZDmMGA51Im7Aeuhwbga8IkNSe582o7SOn8VFSucZEkxAAAAAElFTkSuQmCC",
     "contentType": "image/png",
     "groupId": "0",
     "height": 20,
     "width": 20,
     "values": [
      "Seats"
     ],
     "layerId": 0,
     "layerName": "ChingBleachers_2024_py"
    },
    {
     "label": "Gap",
     "imageData": "iVBORw0KGgoAAAANSUhEUgAAABQAAAAUCAYAAACNiR0NAAAACXBIWXMAAA7EAAAOxAGVKw4bAAAAPklEQVQ4jWP5//+/AwMDAwhTAxxggRpWTyUDGUAGUhWwjBpIMWCh3AhUMGog5YCFCmaggFEDR0oYHqCieQcAUMsGzaatHBgAAAAASUVORK5CYII=",
     "contentType": "image/png",
     "groupId": "0",
     "height": 20,
     "width": 20,
     "values": [
      "Gap"
     ],
     "layerId": 0,
     "layerName": "ChingBleachers_2024_py"
    },
    {
     "label": "Rail",
     "imageData": "iVBORw0KGgoAAAANSUhEUgAAABQAAAAUCAYAAACNiR0NAAAACXBIWXMAAA7EAAAOxAGVKw4bAAAASElEQVQ4je3UsREAIAhDUchlMDdzNJws51FaQyd/gFekCCNiSVrWEIDDxNx9d4CSjNYcByzHOvE2YD02GE8DfrEhgJNP21FaF01mEgruA4whAAAAAElFTkSuQmCC",
     "contentType": "image/png",
     "groupId": "0",
     "height": 20,
     "width": 20,
     "values": [
      "Rail"
     ],
     "layerId": 0,
     "layerName": "ChingBleachers_2024_py"
    },
    {
     "label": "Ramp",
     "imageData": "iVBORw0KGgoAAAANSUhEUgAAABQAAAAUCAYAAACNiR0NAAAACXBIWXMAAA7EAAAOxAGVKw4bAAAAT0lEQVQ4jWM5depEFjs7mwMDFcDPn78OsIAMk5WTCqWGgY8fPWNgYaAyYBk1kGLAQrkRqGDUQMoBCxXMQAGjBo6IMPz589cBUElLDQAyCwDlZRTDti2seAAAAABJRU5ErkJggg==",
     "contentType": "image/png",
     "groupId": "0",
     "height": 20,
     "width": 20,
     "values": [
      "Ramp"
     ],
     "layerId": 0,
     "layerName": "ChingBleachers_2024_py"
    },
    {
     "label": "Stairs",
     "imageData": "iVBORw0KGgoAAAANSUhEUgAAABQAAAAUCAYAAACNiR0NAAAACXBIWXMAAA7EAAAOxAGVKw4bAAAASUlEQVQ4jWO5efNmIDMzswMDFcDfv38PsIAMY2VlzWOgEmChlkEwMGog5YCFCmaggFEDKQcsVDADBYwaOCLC8O/fvweoZRjILAAebQ9h1NlLzAAAAABJRU5ErkJggg==",
     "contentType": "image/png",
     "groupId": "0",
     "height": 20,
     "width": 20,
     "values": [
      "Stairs"
     ],
     "layerId": 0,
     "layerName": "ChingBleachers_2024_py"
    },
    {
     "label": "Walkway",
     "imageData": "iVBORw0KGgoAAAANSUhEUgAAABQAAAAUCAYAAACNiR0NAAAACXBIWXMAAA7EAAAOxAGVKw4bAAAASUlEQVQ4je3UsREAIAhDUchlMDdzNXeiz3mU1tDJH+AVKcKIWJKWNQTgMDF33x2gJKM1xwHLsU68DViPDcbTgF9sCODk03aU1gUnmhKm1frIoAAAAABJRU5ErkJggg==",
     "contentType": "image/png",
     "groupId": "0",
     "height": 20,
     "width": 20,
     "values": [
      "Walkway"
     ],
     "layerId": 0,
     "layerName": "ChingBleachers_2024_py"
    },
    {
     "label": "Sky Walkway",
     "imageData": "iVBORw0KGgoAAAANSUhEUgAAABQAAAAUCAYAAACNiR0NAAAACXBIWXMAAA7EAAAOxAGVKw4bAAAAT0lEQVQ4jWPZuXPnVGZmZgcGKoC/f/8eYAEZpqqqqkUNA2/fvs3AwkBlwDJqIMWAhXIjUMGogZQDFiqYgQJGDRwRYfj3798DoJKWGgBkFgB8AhSDpmFOlwAAAABJRU5ErkJggg==",
     "contentType": "image/png",
     "groupId": "0",
     "height": 20,
     "width": 20,
     "values": [
      "Sky Walkway"
     ],
     "layerId": 0,
     "layerName": "ChingBleachers_2024_py"
    },
    {
     "label": "",
     "imageData": "iVBORw0KGgoAAAANSUhEUgAAABQAAAAUCAYAAACNiR0NAAAACXBIWXMAAA7EAAAOxAGVKw4bAAAAT0lEQVQ4jWO5uCEri/3fewcGKoCfTIIHWECGqf9ZHkoNA2+yRDKwMFAZsIwaSDFgodwIVDBqIOWAhQpmoIBRA0dEGP5kEjwAKmmpAUBmAQBITBD9GPG5/AAAAABJRU5ErkJggg==",
     "contentType": "image/png",
     "groupId": "1",
     "height": 20,
     "width": 20,
     "layerId": 0,
     "layerName": "ChingBleachers_2024_py"
    }
   ],
   "layerId": 0,
   "layerName": "ChingBleachers_2024_py",
   "serviceItemId": "e9d975bb341f4c21954fcd7ed497d0e5"
  },
  {
   "id": 1,
   "name": "MA Main",
   "parentLayerId": -1,
   "defaultVisibility": true,
   "subLayerIds": [
    2,
    3,
    4,
    5,
    6,
    7,
    8,
    9
   ],
   "minScale": 0,
   "maxScale": 0,
   "type": "Group Layer",
   "supportsDynamicLegends": false,
   "layerId": 1,
   "layerName": "MA Main",
   "serviceItemId": "e9d975bb341f4c21954fcd7ed497d0e5"
  },
  {
   "id": 2,
   "name": "Labels - CenterlinesStreets",
   "parentLayerId": 1,
   "defaultVisibility": true,
   "subLayerIds": null,
   "minScale": 0,
   "maxScale": 0,
   "type": "Feature Layer",
   "geometryType": "esriGeometryPolyline",
   "supportsDynamicLegends": true,
   "legend": [
    {
     "label": "",
     "imageData": "iVBORw0KGgoAAAANSUhEUgAAABQAAAAUCAYAAACNiR0NAAAACXBIWXMAAA7EAAAOxAGVKw4bAAAAKklEQVQ4je3MIQEAAAzDsIP613w83MFFQLgyFmr4Ii30KBxhoUfhCAtPexArAFF5acCuAAAAAElFTkSuQmCC",
     "contentType": "image/png",
     "groupId": "0",
     "height": 20,
     "width": 20,
     "layerId": 2,
     "layerName": "Labels - CenterlinesStreets"
    }
   ],
   "layerId": 2,
   "layerName": "Labels - CenterlinesStreets",
   "serviceItemId": "e9d975bb341f4c21954fcd7ed497d0e5"
  },
  {
   "id": 3,
   "name": "MA Basemap Lines - not Parking",
   "parentLayerId": 1,
   "defaultVisibility": true,
   "subLayerIds": null,
   "minScale": 9028,
   "maxScale": 0,
   "type": "Feature Layer",
   "geometryType": "esriGeometryPolyline",
   "supportsDynamicLegends": true,
   "legend": [
    {
     "label": "Sports field lines",
     "imageData": "iVBORw0KGgoAAAANSUhEUgAAABQAAAAUCAYAAACNiR0NAAAACXBIWXMAAA7EAAAOxAGVKw4bAAAARElEQVQ4je3RsQkAIBBD0RTZI73uP8rZ3ybW1hdB8P4Aj0AIc2ywHOvE2a9gZk4Ao2gtSXFnoaQAEDbQGa0aGnT0/ikbegIHWLebLEkAAAAASUVORK5CYII=",
     "contentType": "image/png",
     "groupId": "0",
     "height": 20,
     "width": 20,
     "values": [
      "SFL"
     ],
     "layerId": 3,
     "layerName": "MA Basemap Lines - not Parking"
    },
    {
     "label": "Water lines",
     "imageData": "iVBORw0KGgoAAAANSUhEUgAAABQAAAAUCAYAAACNiR0NAAAACXBIWXMAAA7EAAAOxAGVKw4bAAAAR0lEQVQ4jWNhoDJgGTWQYsAyQg18/fq1AzUMExUVPcACNWw/NQx8/fq1I/W9LCoqegBkMtW8zABlMIysZENNwEJV0xhGpIEAxOwREvhcuVgAAAAASUVORK5CYII=",
     "contentType": "image/png",
     "groupId": "0",
     "height": 20,
     "width": 20,
     "values": [
      "WL"
     ],
     "layerId": 3,
     "layerName": "MA Basemap Lines - not Parking"
    },
    {
     "label": "",
     "imageData": "iVBORw0KGgoAAAANSUhEUgAAABQAAAAUCAYAAACNiR0NAAAACXBIWXMAAA7EAAAOxAGVKw4bAAAAP0lEQVQ4jWNhoDJgGTWQYsBCuRGoYKQa+J+BoYGBgcGeQrMOMjIwNNDGhYwQF1LPQGoCFqqaxjBqIDXA4I8UAH+cA9LEULG4AAAAAElFTkSuQmCC",
     "contentType": "image/png",
     "groupId": "1",
     "height": 20,
     "width": 20,
     "layerId": 3,
     "layerName": "MA Basemap Lines - not Parking"
    }
   ],
   "layerId": 3,
   "layerName": "MA Basemap Lines - not Parking",
   "serviceItemId": "e9d975bb341f4c21954fcd7ed497d0e5"
  },
  {
   "id": 4,
   "name": "Buildings - outline",
   "parentLayerId": 1,
   "defaultVisibility": true,
   "subLayerIds": null,
   "minScale": 283,
   "maxScale": 0,
   "type": "Feature Layer",
   "geometryType": "esriGeometryPolygon",
   "supportsDynamicLegends": true,
   "legend": [
    {
     "label": "",
     "imageData": "iVBORw0KGgoAAAANSUhEUgAAABQAAAAUCAYAAACNiR0NAAAACXBIWXMAAA7EAAAOxAGVKw4bAAAAdUlEQVQ4je2TQQqAMAwEu5CH1YcFKfsw+7OVKIIXSw85qXMKlE5KujGSVdJWHgDQ3X0pk5i7d5LTF0aQrBZFSDNkkrZDmIn9wpfPEEBPE/qZ5TzhhZGMPW4Z2xKYpAqglU/88ouEJOvo/J6Q2ReukYZBw+WS7tVaLg8K/mFcAAAAAElFTkSuQmCC",
     "contentType": "image/png",
     "groupId": "0",
     "height": 20,
     "width": 20,
     "layerId": 4,
     "layerName": "Buildings - outline"
    }
   ],
   "layerId": 4,
   "layerName": "Buildings - outline",
   "serviceItemId": "e9d975bb341f4c21954fcd7ed497d0e5"
  },
  {
   "id": 5,
   "name": "Buildings - fill",
   "parentLayerId": 1,
   "defaultVisibility": true,
   "subLayerIds": null,
   "minScale": 9029,
   "maxScale": 283,
   "type": "Feature Layer",
   "geometryType": "esriGeometryPolygon",
   "supportsDynamicLegends": true,
   "legend": [
    {
     "label": "Educational",
     "imageData": "iVBORw0KGgoAAAANSUhEUgAAABQAAAAUCAYAAACNiR0NAAAACXBIWXMAAA7EAAAOxAGVKw4bAAAAT0lEQVQ4jWPZuXPnVGZmZgcGKoC/f/8eYAEZpqqqqkUNA2/fvs3AwkBlwDJqIMWAhXIjUMGogZQDFiqYgQJGDRwRYfj3798DoJKWGgBkFgB8AhSDpmFOlwAAAABJRU5ErkJggg==",
     "contentType": "image/png",
     "groupId": "0",
     "height": 20,
     "width": 20,
     "values": [
      "Ed"
     ],
     "layerId": 5,
     "layerName": "Buildings - fill"
    },
    {
     "label": "General",
     "imageData": "iVBORw0KGgoAAAANSUhEUgAAABQAAAAUCAYAAACNiR0NAAAACXBIWXMAAA7EAAAOxAGVKw4bAAAAT0lEQVQ4jWPZuXPnVGZmJgcGKoC/f/8dYAEZpqmppEUNA69fv8fAwkBlwDJqIMWAhXIjUMGogZQDFiqYgQJGDRwRYfj3778DoJKWGgBkFgB19BR/dgpSSgAAAABJRU5ErkJggg==",
     "contentType": "image/png",
     "groupId": "0",
     "height": 20,
     "width": 20,
     "values": [
      "Ge"
     ],
     "layerId": 5,
     "layerName": "Buildings - fill"
    },
    {
     "label": "Field",
     "imageData": "iVBORw0KGgoAAAANSUhEUgAAABQAAAAUCAYAAACNiR0NAAAACXBIWXMAAA7EAAAOxAGVKw4bAAAAUElEQVQ4jWPZuHFjAxMTkxYDFcC/f/+usYAM8/X1DaOGgZs3b17FwkBlwDJqIMWAhXIjUMGogZQDFiqYgQJGDRwRYfjv379roJKWGoaBzAIAybgVdy8YAyAAAAAASUVORK5CYII=",
     "contentType": "image/png",
     "groupId": "0",
     "height": 20,
     "width": 20,
     "values": [
      "Fi"
     ],
     "layerId": 5,
     "layerName": "Buildings - fill"
    },
    {
     "label": "",
     "imageData": "iVBORw0KGgoAAAANSUhEUgAAABQAAAAUCAYAAACNiR0NAAAACXBIWXMAAA7EAAAOxAGVKw4bAAAAT0lEQVQ4jWPZt2nGVJb/3xwYqAD+MHIdYAEZZvuzSIsaBh5m72NgYaAyYBk1kGLAQrkRqGDUQMoBCxXMQAGjBo6IMPzDyHUAVNJSA4DMAgAroxE3ZKwf+gAAAABJRU5ErkJggg==",
     "contentType": "image/png",
     "groupId": "1",
     "height": 20,
     "width": 20,
     "layerId": 5,
     "layerName": "Buildings - fill"
    }
   ],
   "layerId": 5,
   "layerName": "Buildings - fill",
   "serviceItemId": "e9d975bb341f4c21954fcd7ed497d0e5"
  },
  {
   "id": 6,
   "name": "Buildings - fill - Construction",
   "parentLayerId": 1,
   "defaultVisibility": true,
   "subLayerIds": null,
   "minScale": 9029,
   "maxScale": 283,
   "type": "Feature Layer",
   "geometryType": "esriGeometryPolygon",
   "supportsDynamicLegends": true,
   "legend": [
    {
     "label": "Educational",
     "imageData": "iVBORw0KGgoAAAANSUhEUgAAABQAAAAUCAYAAACNiR0NAAAACXBIWXMAAA7EAAAOxAGVKw4bAAAATElEQVQ4je3UoRVAMQhDUUSm+R7fJf82iHpWiuhBVhNX3gBXRAQR8QNYJojkRmHu/inAzDSYOAzYDn3ibsB+EBhXAz6xIcldT6uorAPGORRZMPz/SgAAAABJRU5ErkJggg==",
     "contentType": "image/png",
     "groupId": "0",
     "height": 20,
     "width": 20,
     "values": [
      "Ed"
     ],
     "layerId": 6,
     "layerName": "Buildings - fill - Construction"
    },
    {
     "label": "General",
     "imageData": "iVBORw0KGgoAAAANSUhEUgAAABQAAAAUCAYAAACNiR0NAAAACXBIWXMAAA7EAAAOxAGVKw4bAAAAT0lEQVQ4jWPZuXPnVGZmJgcGKoC/f/8dYAEZpqmppEUNA69fv8fAwkBlwDJqIMWAhXIjUMGogZQDFiqYgQJGDRwRYfj3778DoJKWGgBkFgB19BR/dgpSSgAAAABJRU5ErkJggg==",
     "contentType": "image/png",
     "groupId": "0",
     "height": 20,
     "width": 20,
     "values": [
      "Ge"
     ],
     "layerId": 6,
     "layerName": "Buildings - fill - Construction"
    },
    {
     "label": "Field",
     "imageData": "iVBORw0KGgoAAAANSUhEUgAAABQAAAAUCAYAAACNiR0NAAAACXBIWXMAAA7EAAAOxAGVKw4bAAAAUElEQVQ4jWPZuHFjAxMTkxYDFcC/f/+usYAM8/X1DaOGgZs3b17FwkBlwDJqIMWAhXIjUMGogZQDFiqYgQJGDRwRYfjv379roJKWGoaBzAIAybgVdy8YAyAAAAAASUVORK5CYII=",
     "contentType": "image/png",
     "groupId": "0",
     "height": 20,
     "width": 20,
     "values": [
      "Fi"
     ],
     "layerId": 6,
     "layerName": "Buildings - fill - Construction"
    },
    {
     "label": "",
     "imageData": "iVBORw0KGgoAAAANSUhEUgAAABQAAAAUCAYAAACNiR0NAAAACXBIWXMAAA7EAAAOxAGVKw4bAAAAT0lEQVQ4jWPZt2nGVJb/3xwYqAD+MHIdYAEZZvuzSIsaBh5m72NgYaAyYBk1kGLAQrkRqGDUQMoBCxXMQAGjBo6IMPzDyHUAVNJSA4DMAgAroxE3ZKwf+gAAAABJRU5ErkJggg==",
     "contentType": "image/png",
     "groupId": "1",
     "height": 20,
     "width": 20,
     "layerId": 6,
     "layerName": "Buildings - fill - Construction"
    }
   ],
   "layerId": 6,
   "layerName": "Buildings - fill - Construction",
   "serviceItemId": "e9d975bb341f4c21954fcd7ed497d0e5"
  },
  {
   "id": 7,
   "name": "MA Basemap Lines - Parking",
   "parentLayerId": 1,
   "defaultVisibility": true,
   "subLayerIds": null,
   "minScale": 564,
   "maxScale": 0,
   "type": "Feature Layer",
   "geometryType": "esriGeometryPolyline",
   "supportsDynamicLegends": true,
   "legend": [
    {
     "label": "",
     "imageData": "iVBORw0KGgoAAAANSUhEUgAAABQAAAAUCAYAAACNiR0NAAAACXBIWXMAAA7EAAAOxAGVKw4bAAAARElEQVQ4jWNhoDJgGTWQYsBCuRGoYKQa+PDhwwZGRkZ7Sgz6////QXl5+QbauFBeXr6BqgZSE7BQ1TSGUQOpAQZ/pAAA504JLsFCGXYAAAAASUVORK5CYII=",
     "contentType": "image/png",
     "groupId": "0",
     "height": 20,
     "width": 20,
     "layerId": 7,
     "layerName": "MA Basemap Lines - Parking"
    }
   ],
   "layerId": 7,
   "layerName": "MA Basemap Lines - Parking",
   "serviceItemId": "e9d975bb341f4c21954fcd7ed497d0e5"
  },
  {
   "id": 8,
   "name": "Land Cover 2025",
   "parentLayerId": 1,
   "defaultVisibility": true,
   "subLayerIds": null,
   "minScale": 18057,
   "maxScale": 0,
   "type": "Feature Layer",
   "geometryType": "esriGeometryPolygon",
   "supportsDynamicLegends": true,
   "legend": [
    {
     "label": "Building Footprints",
     "imageData": "iVBORw0KGgoAAAANSUhEUgAAABQAAAAUCAYAAACNiR0NAAAACXBIWXMAAA7EAAAOxAGVKw4bAAAATklEQVQ4je3UIRVAMQxD0YKIqJxvYiamcqReKiLgn8Lhhq1PwAUBQURsAJ8JInlQmLsvBZiZBhOHAduhT9wN2A8C42rAJzYkeeppFZX1A2OsFMuacWx2AAAAAElFTkSuQmCC",
     "contentType": "image/png",
     "groupId": "0",
     "height": 20,
     "width": 20,
     "values": [
      "BuildingFootprints"
     ],
     "layerId": 8,
     "layerName": "Land Cover 2025"
    },
    {
     "label": "",
     "imageData": "iVBORw0KGgoAAAANSUhEUgAAABQAAAAUCAYAAACNiR0NAAAACXBIWXMAAA7EAAAOxAGVKw4bAAAAT0lEQVQ4jWO5ePFiFjs7uwMDFcDPnz8PsIAMU1dXD6WGgTdv3mRgYaAyYBk1kGLAQrkRqGDUQMoBCxXMQAGjBo6IMPz58+cBUElLDQAyCwB8axS5Nh8m7gAAAABJRU5ErkJggg==",
     "contentType": "image/png",
     "groupId": "1",
     "height": 20,
     "width": 20,
     "layerId": 8,
     "layerName": "Land Cover 2025"
    }
   ],
   "layerId": 8,
   "layerName": "Land Cover 2025",
   "serviceItemId": "e9d975bb341f4c21954fcd7ed497d0e5"
  },
  {
   "id": 9,
   "name": "Land Cover 2025 - Construction",
   "parentLayerId": 1,
   "defaultVisibility": true,
   "subLayerIds": null,
   "minScale": 18057,
   "maxScale": 0,
   "type": "Feature Layer",
   "geometryType": "esriGeometryPolygon",
   "supportsDynamicLegends": true,
   "legend": [
    {
     "label": "",
     "imageData": "iVBORw0KGgoAAAANSUhEUgAAABQAAAAUCAYAAACNiR0NAAAACXBIWXMAAA7EAAAOxAGVKw4bAAAASElEQVQ4je3UsQ0AIAwDwcjyYGzGauyU3kJINNRxR36AK1yYmTkAjDAkafFi0wECCIY5NliOdeKtwXo0GE8NfrGhpHWe1tGxNr4bD69fMIm1AAAAAElFTkSuQmCC",
     "contentType": "image/png",
     "groupId": "0",
     "height": 20,
     "width": 20,
     "layerId": 9,
     "layerName": "Land Cover 2025 - Construction"
    }
   ],
   "layerId": 9,
   "layerName": "Land Cover 2025 - Construction",
   "serviceItemId": "e9d975bb341f4c21954fcd7ed497d0e5"
  }
 ],
 "initialExtent": {
  "xmin": -1.7569132190691896E7,
  "ymin": 2426359.034628655,
  "xmax": -1.7566177813766867E7,
  "ymax": 2430919.081924714,
  "spatialReference": {
   "wkid": 102100,
   "latestWkid": 3857
  }
 },
 "fullExtent": {
  "xmin": -1.7569132190691896E7,
  "ymin": 2426359.034628655,
  "xmax": -1.7566177813766867E7,
  "ymax": 2430919.081924714,
  "spatialReference": {
   "wkid": 102100,
   "latestWkid": 3857
  }
 },
 "minScale": 36111.909643,
 "maxScale": 70.5310735,
 "exportTilesAllowed": false,
 "maxExportTilesCount": 0,
 "currentVersion": 10.91,
 "mapName": "MA_CustomBasemapSimple_2025_06",
 "singleFusedMapCache": true,
 "type": "MapServer",
 "supportedExtensions": "",
 "capabilities": "TilesOnly,Tilemap",
 "serviceItemId": "e9d975bb341f4c21954fcd7ed497d0e5"
}
